BEGIN:VCALENDAR
VERSION:2.0
PRODID:-//ChamberMaster//Event Calendar 2.0//EN
METHOD:PUBLISH
X-PUBLISHED-TTL:P3D
REFRESH-INTERVAL:P3D
CALSCALE:GREGORIAN
BEGIN:VEVENT
DTSTART:20220210T133000Z
DTEND:20220210T143000Z
X-MICROSOFT-CDO-ALLDAYEVENT:FALSE
SUMMARY:February Rooster Booster
DESCRIPTION:The February  Rooster Booster is sponsored by Daviess County Farm Bureau and The Daviess County Cooperative Extension Service.
X-ALT-DESC;FMTTYPE=text/html:The February&nbsp\; Rooster Booster is sponsored by <span style="color: rgb(51\, 51\, 51)\; font-family: sans-serif\, Arial\, Verdana\, &quot\;Trebuchet MS&quot\;\; font-size: 13px\; background-color: rgb(255\, 255\, 255)\;">Daviess County Farm Bureau and The Daviess County Cooperative Extension Service.</span>
LOCATION:Owensboro Convention Center 501 West Second Street
UID:e.1891.3768
SEQUENCE:3
DTSTAMP:20260423T125159Z
URL:https://business.chamber.owensboro.com/events/details/february-rooster-booster-02-03-2022-3768
END:VEVENT

END:VCALENDAR
